BEGIN:VCALENDAR
VERSION:2.0
PRODID:-//Petershäger Anzeiger - ECPv6.15.20//NONSGML v1.0//EN
CALSCALE:GREGORIAN
METHOD:PUBLISH
X-WR-CALNAME:Petershäger Anzeiger
X-ORIGINAL-URL:https://www.petershaeger-anzeiger.de
X-WR-CALDESC:Veranstaltungen für Petershäger Anzeiger
REFRESH-INTERVAL;VALUE=DURATION:PT1H
X-Robots-Tag:noindex
X-PUBLISHED-TTL:PT1H
BEGIN:VTIMEZONE
TZID:Europe/Berlin
BEGIN:DAYLIGHT
TZOFFSETFROM:+0100
TZOFFSETTO:+0200
TZNAME:CEST
DTSTART:20250330T010000
END:DAYLIGHT
BEGIN:STANDARD
TZOFFSETFROM:+0200
TZOFFSETTO:+0100
TZNAME:CET
DTSTART:20251026T010000
END:STANDARD
BEGIN:DAYLIGHT
TZOFFSETFROM:+0100
TZOFFSETTO:+0200
TZNAME:CEST
DTSTART:20260329T010000
END:DAYLIGHT
BEGIN:STANDARD
TZOFFSETFROM:+0200
TZOFFSETTO:+0100
TZNAME:CET
DTSTART:20261025T010000
END:STANDARD
BEGIN:DAYLIGHT
TZOFFSETFROM:+0100
TZOFFSETTO:+0200
TZNAME:CEST
DTSTART:20270328T010000
END:DAYLIGHT
BEGIN:STANDARD
TZOFFSETFROM:+0200
TZOFFSETTO:+0100
TZNAME:CET
DTSTART:20271031T010000
END:STANDARD
END:VTIMEZONE
BEGIN:VEVENT
DTSTART;VALUE=DATE:20260423
DTEND;VALUE=DATE:20260424
DTSTAMP:20260423T174741
CREATED:20260218T143023Z
LAST-MODIFIED:20260218T143023Z
UID:26881-1776902400-1776988799@www.petershaeger-anzeiger.de
SUMMARY:Zukunftstag im Rathaus Uchte
DESCRIPTION:Wer schon immer wissen wollte\, welche Aufgaben im Rathaus erledigt werden\, kann das beim Zukunftstag im Rathaus Uchte am Donnerstag\, 23. April\, erfahren. An diesem Tag gibt es einen Blick hinter die Kulissen und die Aufgaben\, die die rund 200 Mitarbeiter für die Bürger erledigen. Anmeldungen sind bis zum 31. März per Mail an personal@sg-uchte.de oder telefonisch unter 05763-18374 möglich.
URL:https://www.petershaeger-anzeiger.de/event/zukunftstag-im-rathaus-uchte/
END:VEVENT
BEGIN:VEVENT
DTSTART;VALUE=DATE:20260529
DTEND;VALUE=DATE:20260530
DTSTAMP:20260423T174741
CREATED:20260418T174900Z
LAST-MODIFIED:20260418T174900Z
UID:27375-1780012800-1780099199@www.petershaeger-anzeiger.de
SUMMARY:„Da lacht der Fussball – WM2026 Special“ mit Uwe Spinder
DESCRIPTION:Eine fröhliche Einstimmung auf die WM 2026 gibt es am 29. Mai im Bürgerhaus Uchte. \nWer Spaß am Fußball hat und gerne lacht\, der ist genau richtig bei Uwe Spinder! Nach über 700 Auftritten in der ganzen Republik frönt der Schwabe seiner größten Passion auch auf unserer Bühne und präsentiert die wunderbar kuriose Welt des runden Leders mit viel Humor und jeder Menge Pointen. \nSein WM-Special ist die fröhliche Einstimmung zum Fußball-Großereignis des Jahres in Kanada\, Mexiko und den USA. Er präsentiert die schönsten Momente aus 96 Jahren Weltmeisterschaft und unserer Nationalelf\, begleitet von vielen zeitlosen Highlights des Fußball-Humors in Wort und Bild. \nDazu legendäre Kicker\, launige Trainer\, schwafelnde Reporter\, profunde Kenner und kultige Nostalgie. Lustige Anekdoten und unglaubliche Fakten zwischen WM-Finale und Kreisliga\nwerden flankiert von herzerfrischenden Sprüchen und Weisheiten – der Fußball schreibt die schönsten Geschichten. \nUwe Spinder sorgt für Dribblings und Treffer auf allen Feldern der Fußball-Komik. Er spielt dabei gerne Doppelpass mit dem Publikum und garantiert für 90 Minuten beste Unterhaltung.\nBeginn der Veranstaltung ist um 19 Uhr. Karten sind bis zum 25.Mai 2026 für den Preis von 18 € im Schreibwarengeschäft Könemann\, Mühlenstr. 8c in Uchte oder online unter\nwww.buk-uchte.de im Vorverkauf erhältlich. Restkarten werden an der Abendkasse verkauft. Einlass ist eine halbe Stunde vor Veranstaltungsbeginn.
URL:https://www.petershaeger-anzeiger.de/event/da-lacht-der-fussball-wm2026-special-mit-uwe-spinder/
END:VEVENT
END:VCALENDAR